BEGIN:VCALENDAR
VERSION:2.0
PRODID:-//Perissos Vineyards - ECPv6.15.20//NONSGML v1.0//EN
CALSCALE:GREGORIAN
METHOD:PUBLISH
X-ORIGINAL-URL:https://www.perissosvineyards.com
X-WR-CALDESC:Events for Perissos Vineyards
REFRESH-INTERVAL;VALUE=DURATION:PT1H
X-Robots-Tag:noindex
X-PUBLISHED-TTL:PT1H
BEGIN:VTIMEZONE
TZID:America/Chicago
BEGIN:DAYLIGHT
TZOFFSETFROM:-0600
TZOFFSETTO:-0500
TZNAME:CDT
DTSTART:20240310T080000
END:DAYLIGHT
BEGIN:STANDARD
TZOFFSETFROM:-0500
TZOFFSETTO:-0600
TZNAME:CST
DTSTART:20241103T070000
END:STANDARD
BEGIN:DAYLIGHT
TZOFFSETFROM:-0600
TZOFFSETTO:-0500
TZNAME:CDT
DTSTART:20250309T080000
END:DAYLIGHT
BEGIN:STANDARD
TZOFFSETFROM:-0500
TZOFFSETTO:-0600
TZNAME:CST
DTSTART:20251102T070000
END:STANDARD
BEGIN:DAYLIGHT
TZOFFSETFROM:-0600
TZOFFSETTO:-0500
TZNAME:CDT
DTSTART:20260308T080000
END:DAYLIGHT
BEGIN:STANDARD
TZOFFSETFROM:-0500
TZOFFSETTO:-0600
TZNAME:CST
DTSTART:20261101T070000
END:STANDARD
END:VTIMEZONE
BEGIN:VEVENT
DTSTART;VALUE=DATE:20250503
DTEND;VALUE=DATE:20250505
DTSTAMP:20260420T111419
CREATED:20230728T211938Z
LAST-MODIFIED:20250416T205924Z
UID:2035-1746230400-1746403199@www.perissosvineyards.com
SUMMARY:May Pickup Party
DESCRIPTION:Help us close out the Pickup Party season as we embrace spring and summer! This special gathering will feature a dual release of our 2022 Primitivo Free Run and 2022 Primitivo Press Fractions. Enjoy delightful wines and toast to the season of growth and new beginnings. Let’s raise a glass to spring and savor the new flavors together! \nREMINDER: Members receive 4 passes at $10 each. Guests may join for $40 per person.
URL:https://www.perissosvineyards.com/event/may-pickup-party/
LOCATION:TX
ATTACH;FMTTYPE=image/jpeg:https://www.perissosvineyards.com/wp-content/uploads/2023/07/May.jpg
ORGANIZER;CN="perissosvineyards":MAILTO:admin@perissosvineyards.com
END:VEVENT
BEGIN:VEVENT
DTSTART;TZID=America/Chicago:20250524T120000
DTEND;TZID=America/Chicago:20250525T170000
DTSTAMP:20260420T111419
CREATED:20250304T185104Z
LAST-MODIFIED:20250525T153746Z
UID:3454-1748088000-1748192400@www.perissosvineyards.com
SUMMARY:Memorial Day Weekend
DESCRIPTION:Join Us for Memorial Day WeekendWe’re celebrating all weekend long with live music\, burger sliders\, market vendors\, and great food. \nHere’s what to expect each day:Saturday:Live music from Tim Bond and our regular food menu. \nSunday:Tim Bond returns for more live music. We’ll also be serving burger sliders and hosting our Vendor Market Day—featuring local makers and small businesses. \nVendors:House of CheeseOur Daily BreadImagine LavenderCopper Vine DesignWandering PagesSunkissed SundriesDrea Marie CakeryThe Hill Country BakehouseClay PlayFarm Girl PotteryFarmyard FibersCarrie Rosa Permanent JewelrySimply SewnRanch 52 \nMonday:Still have family in town? Bring them by. We’d love to meet them and help you wrap up the weekend with great wine and relaxed vibes. \nThree days of music\, food\, and community. We look forward to seeing you.
URL:https://www.perissosvineyards.com/event/memorial-day-weekend-2/
LOCATION:Perissos Vineyards\, 7214 Park Rd 4 W\, Burnet\, TX\, 78611\, United States
ATTACH;FMTTYPE=image/jpeg:https://www.perissosvineyards.com/wp-content/uploads/2025/03/MEMORIAL-DAY-Presentation.jpg
ORGANIZER;CN="perissosvineyards":MAILTO:admin@perissosvineyards.com
END:VEVENT
END:VCALENDAR