BEGIN:VCALENDAR
VERSION:2.0
PRODID:-//Perissos Vineyards - ECPv6.15.20//NONSGML v1.0//EN
CALSCALE:GREGORIAN
METHOD:PUBLISH
X-WR-CALNAME:Perissos Vineyards
X-ORIGINAL-URL:https://www.perissosvineyards.com
X-WR-CALDESC:Events for Perissos Vineyards
REFRESH-INTERVAL;VALUE=DURATION:PT1H
X-Robots-Tag:noindex
X-PUBLISHED-TTL:PT1H
BEGIN:VTIMEZONE
TZID:America/Chicago
BEGIN:DAYLIGHT
TZOFFSETFROM:-0600
TZOFFSETTO:-0500
TZNAME:CDT
DTSTART:20230312T080000
END:DAYLIGHT
BEGIN:STANDARD
TZOFFSETFROM:-0500
TZOFFSETTO:-0600
TZNAME:CST
DTSTART:20231105T070000
END:STANDARD
BEGIN:DAYLIGHT
TZOFFSETFROM:-0600
TZOFFSETTO:-0500
TZNAME:CDT
DTSTART:20240310T080000
END:DAYLIGHT
BEGIN:STANDARD
TZOFFSETFROM:-0500
TZOFFSETTO:-0600
TZNAME:CST
DTSTART:20241103T070000
END:STANDARD
BEGIN:DAYLIGHT
TZOFFSETFROM:-0600
TZOFFSETTO:-0500
TZNAME:CDT
DTSTART:20250309T080000
END:DAYLIGHT
BEGIN:STANDARD
TZOFFSETFROM:-0500
TZOFFSETTO:-0600
TZNAME:CST
DTSTART:20251102T070000
END:STANDARD
END:VTIMEZONE
BEGIN:VEVENT
DTSTART;VALUE=DATE:20240408
DTEND;VALUE=DATE:20240409
DTSTAMP:20260420T062900
CREATED:20230408T153022Z
LAST-MODIFIED:20240224T175742Z
UID:1975-1712534400-1712620799@www.perissosvineyards.com
SUMMARY:Eclipse Watch Party
DESCRIPTION: Perissos Vineyards \n			\n				\n				\n				\n				\n				 OFFICIAL VIEWING SITE : APRIL 8\, 2024 \n			\n				\n				\n				\n				\n				Perissos Vineyards welcomes you to a once in a lifetime event! Our winery is in the direct path of totality for an unforgettable experience of the 2024 Solar Eclipse. Perissos provides the perfect family-friendly experience to witness this rare event while relaxing in the vineyard and sipping on the finest wines grown from Texas soil. \n			\n			\n				\n				\n				\n				\n			\n				\n				\n				\n				\n				\n				\n				\n				\n				\n				\n				\n					\n					\n						 \n						Day(s) \n					\n						: \n					\n						 \n						Hour(s) \n					\n						: \n					\n						 \n						Minute(s) \n					\n						: \n					\n						 \n						Second(s) \n					\n				\n			\n			\n				\n				\n				\n				\n			\n				\n				\n				\n				\n				\n				\n				\n				\n				\n				\n				\n				\n				\n					\n				\n				\n				\n				\n				\n			\n				\n			\n			\n				\n				\n				\n				\n			\n				\n				\n				\n				\n				\n				\n				\n				\n				\n				\n				ADMISSION \n$75.00 per person \n(5 years and under free) \nINCLUDED \nParking\, Hill Country Breakfast\, Viewing Glasses\, and Commemorative Wine Glass  \n			\n				\n				\n				\n				\n				SCHEDULE OF EVENTS  \n7:00 – 10:00 AM: Gate Opens \n8:00 -11:00 AM: Hill Country Breakfast Buffet  \n11:00 AM: Wine Available \n12:17 PM: C1 Start of partial eclipse \n1:34 PM: C2 Start of total eclipse \n1:36 PM: Max Maximum eclipse \n1:38 PM: C3 End of total eclipse \n2:57 PM: C4 End of Partial eclipse \n5:00 PM: End of Business Hours \n			\n				\n				\n				\n				\n				NEED TO KNOW \n\nUpon entry of the gate\, you will need to show proof of admission for each person in the vehicle\, no exceptions as we have capped the event at 600 people for everyone’s comfort.\nWe kindly ask that you leave your dogs at home due to the amount of people and safety of everyone.\nFeel free to bring your own lawn chairs\, blankets\, and viewing devices including telescopes and camera equipment.\nPlease direct all inquiries to lesley@perissosvineyards.com
URL:https://www.perissosvineyards.com/event/eclipse/
LOCATION:Perissos Vineyards\, 7214 Park Rd 4 W\, Burnet\, TX\, 78611\, United States
ATTACH;FMTTYPE=image/png:https://www.perissosvineyards.com/wp-content/uploads/2023/04/Perissos-Eclipse-2.png
END:VEVENT
END:VCALENDAR