BEGIN:VCALENDAR
VERSION:2.0
PRODID:-//Perissos Vineyards - ECPv6.15.20//NONSGML v1.0//EN
CALSCALE:GREGORIAN
METHOD:PUBLISH
X-WR-CALNAME:Perissos Vineyards
X-ORIGINAL-URL:https://www.perissosvineyards.com
X-WR-CALDESC:Events for Perissos Vineyards
REFRESH-INTERVAL;VALUE=DURATION:PT1H
X-Robots-Tag:noindex
X-PUBLISHED-TTL:PT1H
BEGIN:VTIMEZONE
TZID:America/Chicago
BEGIN:DAYLIGHT
TZOFFSETFROM:-0600
TZOFFSETTO:-0500
TZNAME:CDT
DTSTART:20220313T080000
END:DAYLIGHT
BEGIN:STANDARD
TZOFFSETFROM:-0500
TZOFFSETTO:-0600
TZNAME:CST
DTSTART:20221106T070000
END:STANDARD
BEGIN:DAYLIGHT
TZOFFSETFROM:-0600
TZOFFSETTO:-0500
TZNAME:CDT
DTSTART:20230312T080000
END:DAYLIGHT
BEGIN:STANDARD
TZOFFSETFROM:-0500
TZOFFSETTO:-0600
TZNAME:CST
DTSTART:20231105T070000
END:STANDARD
BEGIN:DAYLIGHT
TZOFFSETFROM:-0600
TZOFFSETTO:-0500
TZNAME:CDT
DTSTART:20240310T080000
END:DAYLIGHT
BEGIN:STANDARD
TZOFFSETFROM:-0500
TZOFFSETTO:-0600
TZNAME:CST
DTSTART:20241103T070000
END:STANDARD
END:VTIMEZONE
BEGIN:VTIMEZONE
TZID:UTC
BEGIN:STANDARD
TZOFFSETFROM:+0000
TZOFFSETTO:+0000
TZNAME:UTC
DTSTART:20210101T000000
END:STANDARD
END:VTIMEZONE
BEGIN:VEVENT
DTSTART;TZID=America/Chicago:20230506T110000
DTEND;TZID=America/Chicago:20230507T170000
DTSTAMP:20260421T005935
CREATED:20221231T182542Z
LAST-MODIFIED:20230408T162454Z
UID:1787-1683370800-1683478800@www.perissosvineyards.com
SUMMARY:May Pickup Party
DESCRIPTION:We will blow the roof off of the place with our final pickup party of the season. Join us the weekend of May 6/7 for a rockin pickup party. We’ll have Shadow Band back and of course\, Ricky Sparks will be cooking up something amazing on his smoker. You will get to try so many new wines during this party. The star will be the new 2022 Estate Viognier along with 2020 Jillianico and 2019 Mourvèdre. Thats just the beginning… We’ll have a few other surprises as well. See you there!
URL:https://www.perissosvineyards.com/event/1787/
LOCATION:Total Property
ATTACH;FMTTYPE=image/jpeg:https://www.perissosvineyards.com/wp-content/uploads/2022/12/pulledpork.jpeg
ORGANIZER;CN="perissosvineyards":MAILTO:admin@perissosvineyards.com
END:VEVENT
BEGIN:VEVENT
DTSTART;VALUE=DATE:20230211
DTEND;VALUE=DATE:20230213
DTSTAMP:20260421T005935
CREATED:20220719T143902Z
LAST-MODIFIED:20221231T181512Z
UID:285-1676073600-1676246399@www.perissosvineyards.com
SUMMARY:February 11/12 Pickup Party
DESCRIPTION:The February Pickup Party gets us headed into the new year with a bang. We’ll celebrate new Perissos wines on February 11/12 along with food\, music\, and a ton of fun. These parties are becoming legendary. Please get on our mailing list so that you don’t miss out. admin@perissosvineyards.com
URL:https://www.perissosvineyards.com/event/pickupparty/
LOCATION:TX
ORGANIZER;CN="perissosvineyards":MAILTO:admin@perissosvineyards.com
END:VEVENT
BEGIN:VEVENT
DTSTART;VALUE=DATE:20221203
DTEND;VALUE=DATE:20221205
DTSTAMP:20260421T005935
CREATED:20221103T143936Z
LAST-MODIFIED:20221119T231515Z
UID:287-1670025600-1670198399@www.perissosvineyards.com
SUMMARY:December Pickup Party
DESCRIPTION:December is a special time as we are all gearing up for the holiday season. Join us on December 3/4 for a special pickup party event. We will be releasing our Best of Class\, Estate Grown\, Extended Barrel Aged\, 2019 Aglianico along with our Estate Grown 2019 Malbec and\, 2019 Reserve Cabernet Sauvignon.
URL:https://www.perissosvineyards.com/event/corporate-events/
LOCATION:TX
ORGANIZER;CN="perissosvineyards":MAILTO:admin@perissosvineyards.com
END:VEVENT
BEGIN:VEVENT
DTSTART;TZID=UTC:20220721T080000
DTEND;TZID=UTC:20220721T170000
DTSTAMP:20260421T005935
CREATED:20220719T143825Z
LAST-MODIFIED:20220719T143825Z
UID:283-1658390400-1658422800@www.perissosvineyards.com
SUMMARY:Book a Room
DESCRIPTION:This is where you’d put the event description. This is an example of a multi-day event. Great for conferences\, music festivals\, and other multi-day events. This example is an event that’s available in-person as well as online.
URL:https://www.perissosvineyards.com/event/book-a-room/
LOCATION:Total Property
ORGANIZER;CN="perissosvineyards":MAILTO:admin@perissosvineyards.com
END:VEVENT
BEGIN:VEVENT
DTSTART;TZID=UTC:20220719T080000
DTEND;TZID=UTC:20220719T170000
DTSTAMP:20260421T005935
CREATED:20220719T143716Z
LAST-MODIFIED:20220719T143716Z
UID:278-1658217600-1658250000@www.perissosvineyards.com
SUMMARY:Book Private Events
DESCRIPTION:This is where you’d put the event description. This is an example of a multi-day event. Great for conferences\, music festivals\, and other multi-day events. This example is an event that’s available in-person as well as online.
URL:https://www.perissosvineyards.com/event/book-private-events/
LOCATION:Total Property
ORGANIZER;CN="perissosvineyards":MAILTO:admin@perissosvineyards.com
END:VEVENT
END:VCALENDAR