BEGIN:VCALENDAR
VERSION:2.0
PRODID:-//Perissos Vineyards - ECPv6.15.20//NONSGML v1.0//EN
CALSCALE:GREGORIAN
METHOD:PUBLISH
X-WR-CALNAME:Perissos Vineyards
X-ORIGINAL-URL:https://www.perissosvineyards.com
X-WR-CALDESC:Events for Perissos Vineyards
REFRESH-INTERVAL;VALUE=DURATION:PT1H
X-Robots-Tag:noindex
X-PUBLISHED-TTL:PT1H
BEGIN:VTIMEZONE
TZID:America/Chicago
BEGIN:DAYLIGHT
TZOFFSETFROM:-0600
TZOFFSETTO:-0500
TZNAME:CDT
DTSTART:20240310T080000
END:DAYLIGHT
BEGIN:STANDARD
TZOFFSETFROM:-0500
TZOFFSETTO:-0600
TZNAME:CST
DTSTART:20241103T070000
END:STANDARD
BEGIN:DAYLIGHT
TZOFFSETFROM:-0600
TZOFFSETTO:-0500
TZNAME:CDT
DTSTART:20250309T080000
END:DAYLIGHT
BEGIN:STANDARD
TZOFFSETFROM:-0500
TZOFFSETTO:-0600
TZNAME:CST
DTSTART:20251102T070000
END:STANDARD
BEGIN:DAYLIGHT
TZOFFSETFROM:-0600
TZOFFSETTO:-0500
TZNAME:CDT
DTSTART:20260308T080000
END:DAYLIGHT
BEGIN:STANDARD
TZOFFSETFROM:-0500
TZOFFSETTO:-0600
TZNAME:CST
DTSTART:20261101T070000
END:STANDARD
END:VTIMEZONE
BEGIN:VEVENT
DTSTART;TZID=America/Chicago:20250308T120000
DTEND;TZID=America/Chicago:20250308T180000
DTSTAMP:20260420T053329
CREATED:20250304T180220Z
LAST-MODIFIED:20250304T183542Z
UID:3450-1741435200-1741456800@www.perissosvineyards.com
SUMMARY:Amplify Austin Day
DESCRIPTION:Join us for a special Gratis Wine celebration on Saturday\, March 8th at our vineyard from 12-6pm. Enjoy live music\, a delicious food menu\, and delightful tastings. 90% of all Gratis label wines sold will go to Amplify Austin Day and @ilivehereigivehere. We hope to see you there!
URL:https://www.perissosvineyards.com/event/3450/
LOCATION:Perissos Vineyards\, 7214 Park Rd 4 W\, Burnet\, TX\, 78611\, United States
ATTACH;FMTTYPE=image/png:https://www.perissosvineyards.com/wp-content/uploads/2025/03/Perissos-Event-Post.png
ORGANIZER;CN="perissosvineyards":MAILTO:admin@perissosvineyards.com
END:VEVENT
END:VCALENDAR