BEGIN:VCALENDAR
VERSION:2.0
PRODID:-//Perissos Vineyards - ECPv6.15.20//NONSGML v1.0//EN
CALSCALE:GREGORIAN
METHOD:PUBLISH
X-WR-CALNAME:Perissos Vineyards
X-ORIGINAL-URL:https://www.perissosvineyards.com
X-WR-CALDESC:Events for Perissos Vineyards
REFRESH-INTERVAL;VALUE=DURATION:PT1H
X-Robots-Tag:noindex
X-PUBLISHED-TTL:PT1H
BEGIN:VTIMEZONE
TZID:America/Chicago
BEGIN:DAYLIGHT
TZOFFSETFROM:-0600
TZOFFSETTO:-0500
TZNAME:CDT
DTSTART:20230312T080000
END:DAYLIGHT
BEGIN:STANDARD
TZOFFSETFROM:-0500
TZOFFSETTO:-0600
TZNAME:CST
DTSTART:20231105T070000
END:STANDARD
BEGIN:DAYLIGHT
TZOFFSETFROM:-0600
TZOFFSETTO:-0500
TZNAME:CDT
DTSTART:20240310T080000
END:DAYLIGHT
BEGIN:STANDARD
TZOFFSETFROM:-0500
TZOFFSETTO:-0600
TZNAME:CST
DTSTART:20241103T070000
END:STANDARD
BEGIN:DAYLIGHT
TZOFFSETFROM:-0600
TZOFFSETTO:-0500
TZNAME:CDT
DTSTART:20250309T080000
END:DAYLIGHT
BEGIN:STANDARD
TZOFFSETFROM:-0500
TZOFFSETTO:-0600
TZNAME:CST
DTSTART:20251102T070000
END:STANDARD
END:VTIMEZONE
BEGIN:VEVENT
DTSTART;VALUE=DATE:20240525
DTEND;VALUE=DATE:20240527
DTSTAMP:20260420T062855
CREATED:20240518T192338Z
LAST-MODIFIED:20240519T194943Z
UID:2632-1716595200-1716767999@www.perissosvineyards.com
SUMMARY:Memorial Day Weekend
DESCRIPTION:Join us at Perissos Vineyards this Memorial Day Weekend for a delightful celebration of food\, wine\, and community! Come and enjoy delicious burger sliders\, hot dogs\, and sweet treats from the Small Town Scoops ice cream truck. \nThere will be plenty of Perissos wine to share so bring your friends and family for a fantastic weekend of fun and relaxation in our beautiful vineyard. We look forward to seeing you there! \nEATS:$6  – 2 Sliders or 2 Hot Dogs$3.75  – Small Town Scoops Ice Cream \nMUSIC:Saturday – Tim Bond FusionSunday – Robert Parker Jr.
URL:https://www.perissosvineyards.com/event/memorial-day-weekend/
LOCATION:Perissos Vineyards\, 7214 Park Rd 4 W\, Burnet\, TX\, 78611\, United States
ATTACH;FMTTYPE=image/png:https://www.perissosvineyards.com/wp-content/uploads/2024/05/Memorial-Day-Party-4.png
ORGANIZER;CN="perissosvineyards":MAILTO:admin@perissosvineyards.com
END:VEVENT
END:VCALENDAR