BEGIN:VCALENDAR
VERSION:2.0
PRODID:-//Perissos Vineyards - ECPv6.15.20//NONSGML v1.0//EN
CALSCALE:GREGORIAN
METHOD:PUBLISH
X-ORIGINAL-URL:https://www.perissosvineyards.com
X-WR-CALDESC:Events for Perissos Vineyards
REFRESH-INTERVAL;VALUE=DURATION:PT1H
X-Robots-Tag:noindex
X-PUBLISHED-TTL:PT1H
BEGIN:VTIMEZONE
TZID:America/Chicago
BEGIN:DAYLIGHT
TZOFFSETFROM:-0600
TZOFFSETTO:-0500
TZNAME:CDT
DTSTART:20220313T080000
END:DAYLIGHT
BEGIN:STANDARD
TZOFFSETFROM:-0500
TZOFFSETTO:-0600
TZNAME:CST
DTSTART:20221106T070000
END:STANDARD
BEGIN:DAYLIGHT
TZOFFSETFROM:-0600
TZOFFSETTO:-0500
TZNAME:CDT
DTSTART:20230312T080000
END:DAYLIGHT
BEGIN:STANDARD
TZOFFSETFROM:-0500
TZOFFSETTO:-0600
TZNAME:CST
DTSTART:20231105T070000
END:STANDARD
BEGIN:DAYLIGHT
TZOFFSETFROM:-0600
TZOFFSETTO:-0500
TZNAME:CDT
DTSTART:20240310T080000
END:DAYLIGHT
BEGIN:STANDARD
TZOFFSETFROM:-0500
TZOFFSETTO:-0600
TZNAME:CST
DTSTART:20241103T070000
END:STANDARD
END:VTIMEZONE
BEGIN:VEVENT
DTSTART;VALUE=DATE:20230701
DTEND;VALUE=DATE:20230703
DTSTAMP:20260422T130258
CREATED:20230613T165846Z
LAST-MODIFIED:20230613T165846Z
UID:2014-1688169600-1688342399@www.perissosvineyards.com
SUMMARY:Picpoul Party
DESCRIPTION:On July 1&2 we will host our 3rd annual Picpoul Party and you’re invited. Bring your family and friends and make sure you’re decked out in you’re favorite hawaiian shirt. We’ll serve up free classic hotdogs\, watermelon and Lucy’s snow cones. The latest vintage of Picpoul Blanc was proudly grown right on the Perissos Estate. We cannot wait to share the new 2022 Picpoul Blanc with you. \nNo reservations required.
URL:https://www.perissosvineyards.com/event/picpoul-party/
LOCATION:Perissos Vineyards\, 7214 Park Rd 4 W\, Burnet\, TX\, 78611\, United States
ATTACH;FMTTYPE=image/jpeg:https://www.perissosvineyards.com/wp-content/uploads/2023/06/PICPOUL-PARTY.jpg
ORGANIZER;CN="perissosvineyards":MAILTO:admin@perissosvineyards.com
END:VEVENT
END:VCALENDAR