BEGIN:VCALENDAR
VERSION:2.0
PRODID:-//Perissos Vineyards - ECPv6.15.20//NONSGML v1.0//EN
CALSCALE:GREGORIAN
METHOD:PUBLISH
X-WR-CALNAME:Perissos Vineyards
X-ORIGINAL-URL:https://www.perissosvineyards.com
X-WR-CALDESC:Events for Perissos Vineyards
REFRESH-INTERVAL;VALUE=DURATION:PT1H
X-Robots-Tag:noindex
X-PUBLISHED-TTL:PT1H
BEGIN:VTIMEZONE
TZID:UTC
BEGIN:STANDARD
TZOFFSETFROM:+0000
TZOFFSETTO:+0000
TZNAME:UTC
DTSTART:20210101T000000
END:STANDARD
END:VTIMEZONE
BEGIN:VEVENT
DTSTART;VALUE=DATE:20221203
DTEND;VALUE=DATE:20221205
DTSTAMP:20260423T011243
CREATED:20221103T143936Z
LAST-MODIFIED:20221119T231515Z
UID:287-1670025600-1670198399@www.perissosvineyards.com
SUMMARY:December Pickup Party
DESCRIPTION:December is a special time as we are all gearing up for the holiday season. Join us on December 3/4 for a special pickup party event. We will be releasing our Best of Class\, Estate Grown\, Extended Barrel Aged\, 2019 Aglianico along with our Estate Grown 2019 Malbec and\, 2019 Reserve Cabernet Sauvignon.
URL:https://www.perissosvineyards.com/event/corporate-events/
LOCATION:TX
ORGANIZER;CN="perissosvineyards":MAILTO:admin@perissosvineyards.com
END:VEVENT
END:VCALENDAR